{
 "currentVersion": 11.3,
 "cimVersion": "3.3.0",
 "serviceDescription": "orthos from Mobile Revenue Commission",
 "mapName": "orthophotos2021",
 "description": "orthos from Mobile Revenue Commission",
 "copyrightText": "",
 "supportsDynamicLayers": false,
 "layers": [
  {
   "id": 0,
   "name": "East Half Tiles",
   "parentLayerId": -1,
   "defaultVisibility": true,
   "subLayerIds": null,
   "minScale": 0,
   "maxScale": 0,
   "type": "Feature Layer",
   "geometryType": "esriGeometryPolygon",
   "supportsDynamicLegends": true
  }
 ],
 "tables": [],
 "spatialReference": {
  "wkid": 102630,
  "latestWkid": 102630,
  "xyTolerance": 0.003280833333333333,
  "zTolerance": 0.001,
  "mTolerance": 0.001,
  "falseX": -16478800,
  "falseY": -43705000,
  "xyUnits": 1.372504686365311E8,
  "falseZ": -100000,
  "zUnits": 10000,
  "falseM": -100000,
  "mUnits": 10000
 },
 "singleFusedMapCache": true,
 "tileInfo": {
  "rows": 256,
  "cols": 256,
  "dpi": 96,
  "format": "PNG8",
  "compressionQuality": 0,
  "origin": {
   "x": -16478800,
   "y": 21921000
  },
  "spatialReference": {
   "wkid": 102630,
   "latestWkid": 102630,
   "xyTolerance": 0.003280833333333333,
   "zTolerance": 0.001,
   "mTolerance": 0.001,
   "falseX": -16478800,
   "falseY": -43705000,
   "xyUnits": 1.372504686365311E8,
   "falseZ": -100000,
   "zUnits": 10000,
   "falseM": -100000,
   "mUnits": 10000
  },
  "lods": [
   {
    "level": 0,
    "resolution": 501.5407986111111,
    "scale": 577775
   },
   {
    "level": 1,
    "resolution": 250.78645833333331,
    "scale": 288906
   },
   {
    "level": 2,
    "resolution": 125.39322916666666,
    "scale": 144453
   },
   {
    "level": 3,
    "resolution": 62.69618055555555,
    "scale": 72226
   },
   {
    "level": 4,
    "resolution": 31.33159722222222,
    "scale": 36094
   },
   {
    "level": 5,
    "resolution": 15.682291666666666,
    "scale": 18066
   },
   {
    "level": 6,
    "resolution": 7.841145833333333,
    "scale": 9033
   },
   {
    "level": 7,
    "resolution": 3.903645833333333,
    "scale": 4497
   },
   {
    "level": 8,
    "resolution": 1.9678819444444444,
    "scale": 2267
   },
   {
    "level": 9,
    "resolution": 0.9835069444444444,
    "scale": 1133
   },
   {
    "level": 10,
    "resolution": 0.4913194444444444,
    "scale": 566
   },
   {
    "level": 11,
    "resolution": 0.22916666666666666,
    "scale": 264
   }
  ]
 },
 "storageInfo": {
  "storageFormat": "esriMapCacheStorageModeCompactV2",
  "packetSize": 128
 },
 "initialExtent": {
  "xmin": 1492817.980362487,
  "ymin": 235250.7180221785,
  "xmax": 2117025.594287183,
  "ymax": 593155.9222326699,
  "spatialReference": {
   "wkid": 102630,
   "latestWkid": 102630,
   "xyTolerance": 0.003280833333333333,
   "zTolerance": 0.001,
   "mTolerance": 0.001,
   "falseX": -16478800,
   "falseY": -43705000,
   "xyUnits": 1.372504686365311E8,
   "falseZ": -100000,
   "zUnits": 10000,
   "falseM": -100000,
   "mUnits": 10000
  }
 },
 "fullExtent": {
  "xmin": 1656668.6739932,
  "ymin": 64522.50291765481,
  "xmax": 1852502.0073265322,
  "ymax": 453585.00291764736,
  "spatialReference": {
   "wkid": 102630,
   "latestWkid": 102630,
   "xyTolerance": 0.003280833333333333,
   "zTolerance": 0.001,
   "mTolerance": 0.001,
   "falseX": -16478800,
   "falseY": -43705000,
   "xyUnits": 1.372504686365311E8,
   "falseZ": -100000,
   "zUnits": 10000,
   "falseM": -100000,
   "mUnits": 10000
  }
 },
 "datesInUnknownTimezone": false,
 "minScale": 577775,
 "maxScale": 264,
 "units": "esriFeet",
 "supportedImageFormatTypes": "PNG32,PNG24,PNG,JPG,DIB,TIFF,EMF,PS,PDF,GIF,SVG,SVGZ,BMP",
 "documentInfo": {
  "Title": "mmc-service-migration.aprx",
  "Author": "",
  "Comments": "orthos from Mobile Revenue Commission",
  "Subject": "orthos 2021 and 2022",
  "Category": "",
  "Version": "3.3.0",
  "AntialiasingMode": "Fast",
  "TextAntialiasingMode": "Force",
  "Keywords": "orthos"
 },
 "supportsQueryDomains": true,
 "capabilities": "Map",
 "supportedQueryFormats": "JSON, geoJSON, PBF",
 "exportTilesAllowed": false,
 "referenceScale": 0.0,
 "supportsDatumTransformation": true,
 "archivingInfo": {
  "supportsHistoricMoment": false
 },
 "supportsClipping": true,
 "supportsSpatialFilter": true,
 "supportsTimeRelation": true,
 "supportsQueryDataElements": true,
 "mapUnits": {
  "uwkid": 9003
 },
 "maxRecordCount": 2000,
 "maxImageHeight": 4096,
 "maxImageWidth": 4096,
 "supportedExtensions": "",
 "resampling": false,
 "serviceItemId": "73c8760410bd4188a9f4dc9bb673d2d2"
}
