{
 "currentVersion": 11.3,
 "cimVersion": "3.3.0",
 "serviceDescription": "",
 "mapName": "Map3",
 "description": "",
 "copyrightText": "",
 "supportsDynamicLayers": true,
 "layers": [
  {
   "id": 0,
   "name": "ZVvwvnA6E6.png",
   "parentLayerId": -1,
   "defaultVisibility": true,
   "subLayerIds": null,
   "minScale": 0,
   "maxScale": 0,
   "type": "Raster Layer",
   "supportsDynamicLegends": true
  }
 ],
 "tables": [],
 "spatialReference": {
  "wkid": 102630,
  "latestWkid": 102630,
  "xyTolerance": 0.003280833333333333,
  "zTolerance": 0.001,
  "mTolerance": 0.001,
  "falseX": -16478800,
  "falseY": -43705000,
  "xyUnits": 3048.0060960121928,
  "falseZ": -100000,
  "zUnits": 10000,
  "falseM": -100000,
  "mUnits": 10000
 },
 "singleFusedMapCache": true,
 "tileInfo": {
  "rows": 256,
  "cols": 256,
  "dpi": 96,
  "format": "JPEG",
  "compressionQuality": 75,
  "origin": {
   "x": -16478800,
   "y": 21921000
  },
  "spatialReference": {
   "wkid": 102630,
   "latestWkid": 102630,
   "xyTolerance": 0.02,
   "zTolerance": 2,
   "mTolerance": 2,
   "falseX": -16478800,
   "falseY": -43705000,
   "xyUnits": 1.372504686365311E8,
   "falseZ": 0,
   "zUnits": 1,
   "falseM": -100000,
   "mUnits": 10000
  },
  "lods": [
   {
    "level": 0,
    "resolution": 501.5407986111111,
    "scale": 577775
   },
   {
    "level": 1,
    "resolution": 250.78645833333331,
    "scale": 288906
   },
   {
    "level": 2,
    "resolution": 125.39322916666666,
    "scale": 144453
   },
   {
    "level": 3,
    "resolution": 62.69618055555555,
    "scale": 72226
   },
   {
    "level": 4,
    "resolution": 31.33159722222222,
    "scale": 36094
   },
   {
    "level": 5,
    "resolution": 15.682291666666666,
    "scale": 18066
   },
   {
    "level": 6,
    "resolution": 7.841145833333333,
    "scale": 9033
   },
   {
    "level": 7,
    "resolution": 3.903645833333333,
    "scale": 4497
   },
   {
    "level": 8,
    "resolution": 1.9678819444444444,
    "scale": 2267
   },
   {
    "level": 9,
    "resolution": 0.9835069444444444,
    "scale": 1133
   },
   {
    "level": 10,
    "resolution": 0.4913194444444444,
    "scale": 566
   },
   {
    "level": 11,
    "resolution": 0.22916666666666666,
    "scale": 264
   }
  ]
 },
 "storageInfo": {
  "storageFormat": "esriMapCacheStorageModeCompactV2",
  "packetSize": 128
 },
 "initialExtent": {
  "xmin": 1302648.1025176405,
  "ymin": -14021.497919887013,
  "xmax": 2170940.6101131267,
  "ymax": 508678.0531326305,
  "spatialReference": {
   "wkid": 102630,
   "latestWkid": 102630,
   "xyTolerance": 0.003280833333333333,
   "zTolerance": 0.001,
   "mTolerance": 0.001,
   "falseX": -16478800,
   "falseY": -43705000,
   "xyUnits": 3048.0060960121928,
   "falseZ": -100000,
   "zUnits": 10000,
   "falseM": -100000,
   "mUnits": 10000
  }
 },
 "fullExtent": {
  "xmin": 1649404.081306967,
  "ymin": 91789.89658084553,
  "xmax": 1859766.6000127653,
  "ymax": 426317.60925445665,
  "spatialReference": {
   "wkid": 102630,
   "latestWkid": 102630,
   "xyTolerance": 0.003280833333333333,
   "zTolerance": 0.001,
   "mTolerance": 0.001,
   "falseX": -16478800,
   "falseY": -43705000,
   "xyUnits": 3048.0060960121928,
   "falseZ": -100000,
   "zUnits": 10000,
   "falseM": -100000,
   "mUnits": 10000
  }
 },
 "datesInUnknownTimezone": false,
 "minScale": 577775,
 "maxScale": 264,
 "units": "esriFeet",
 "supportedImageFormatTypes": "PNG32,PNG24,PNG,JPG,DIB,TIFF,EMF,PS,PDF,GIF,SVG,SVGZ,BMP",
 "documentInfo": {
  "Title": "Map3",
  "Author": "",
  "Comments": "",
  "Subject": "",
  "Category": "",
  "Version": "3.3.0",
  "AntialiasingMode": "Fast",
  "TextAntialiasingMode": "Force",
  "Keywords": ""
 },
 "supportsQueryDomains": true,
 "capabilities": "Query,Map,Data",
 "supportedQueryFormats": "JSON, geoJSON, PBF",
 "exportTilesAllowed": false,
 "referenceScale": 0.0,
 "datumTransformations": [
  {
   "geoTransforms": [
    {
     "wkid": 108190,
     "latestWkid": 108190,
     "transformForward": true,
     "name": "WGS_1984_(ITRF00)_To_NAD_1983"
    }
   ]
  },
  {
   "geoTransforms": [
    {
     "wkid": 108190,
     "latestWkid": 108190,
     "transformForward": false,
     "name": "WGS_1984_(ITRF00)_To_NAD_1983"
    }
   ]
  }
 ],
 "supportsDatumTransformation": true,
 "archivingInfo": {
  "supportsHistoricMoment": false
 },
 "supportsClipping": true,
 "supportsSpatialFilter": true,
 "supportsTimeRelation": true,
 "supportsQueryDataElements": true,
 "mapUnits": {
  "uwkid": 9003
 },
 "maxRecordCount": 2000,
 "maxImageHeight": 4096,
 "maxImageWidth": 4096,
 "supportedExtensions": "",
 "serviceItemId": "259e8f96599a42a5b030d03bd43cd172"
}
