{
 "documentInfo": {
  "Category": "",
  "Keywords": "Topographic_Cache",
  "Version": "3.3.0",
  "Comments": "Topographic_Cache",
  "AntialiasingMode": "Fast",
  "Title": "Topographic_Cache",
  "Author": "",
  "TextAntialiasingMode": "Force",
  "Subject": "Topographic_Cache"
 },
 "maxImageWidth": 4096,
 "wmtsScaleFactor": 0.00091863333333344881,
 "maxRecordCount": 2000,
 "tileInfo": {
  "lods": [
   {
    "level": 0,
    "scale": 577775,
    "resolution": 501.54079861111109
   },
   {
    "level": 1,
    "scale": 288906,
    "resolution": 250.78645833333331
   },
   {
    "level": 2,
    "scale": 144453,
    "resolution": 125.39322916666666
   },
   {
    "level": 3,
    "scale": 72226,
    "resolution": 62.69618055555555
   },
   {
    "level": 4,
    "scale": 36094,
    "resolution": 31.331597222222221
   },
   {
    "level": 5,
    "scale": 18066,
    "resolution": 15.682291666666666
   },
   {
    "level": 6,
    "scale": 9033,
    "resolution": 7.841145833333333
   },
   {
    "level": 7,
    "scale": 4497,
    "resolution": 3.903645833333333
   },
   {
    "level": 8,
    "scale": 2267,
    "resolution": 1.9678819444444444
   },
   {
    "level": 9,
    "scale": 1133,
    "resolution": 0.98350694444444442
   },
   {
    "level": 10,
    "scale": 566,
    "resolution": 0.49131944444444442
   }
  ],
  "origin": {
   "x": -16478800,
   "y": 21921000
  },
  "format": "PNG32",
  "compressionQuality": 0,
  "rows": 256,
  "dpi": 96,
  "spatialReference": {
   "falseM": -100000,
   "xyTolerance": 0.02,
   "mUnits": 10000,
   "zUnits": 1,
   "latestWkid": 102630,
   "zTolerance": 2,
   "wkid": 102630,
   "xyUnits": 137250468.636531115,
   "mTolerance": 2,
   "falseX": -16478800,
   "falseY": -43705000,
   "falseZ": 0
  },
  "cols": 256
 },
 "description": "Topographic_Cache",
 "datesInUnknownTimezone": false,
 "supportsQueryDomains": true,
 "units": "esriFeet",
 "maxSelectionCount": 2000,
 "supportedImageFormatTypes": "PNG32,PNG24,PNG,JPG,DIB,TIFF,EMF,PS,PDF,GIF,SVG,SVGZ,BMP",
 "supportsClipping": true,
 "exportTilesAllowed": false,
 "maxImageHeight": 4096,
 "tables": [],
 "hasVersionedData": false,
 "supportsDatumTransformation": true,
 "cimVersion": "3.7.0",
 "supportsQueryDataElements": true,
 "layers": [
  {
   "subLayerIds": null,
   "maxScale": 0,
   "name": "Mobile City Benchmarks",
   "defaultVisibility": true,
   "id": 0,
   "minScale": 160000,
   "supportsDynamicLegends": true,
   "type": "Feature Layer",
   "parentLayerId": -1,
   "geometryType": "esriGeometryPoint"
  },
  {
   "subLayerIds": null,
   "maxScale": 0,
   "name": "PLS Sections",
   "defaultVisibility": true,
   "id": 1,
   "minScale": 24000,
   "supportsDynamicLegends": true,
   "type": "Feature Layer",
   "parentLayerId": -1,
   "geometryType": "esriGeometryPolygon"
  },
  {
   "subLayerIds": null,
   "maxScale": 0,
   "name": "NWI Wetlands",
   "defaultVisibility": true,
   "id": 2,
   "minScale": 160000,
   "supportsDynamicLegends": true,
   "type": "Feature Layer",
   "parentLayerId": -1,
   "geometryType": "esriGeometryPolygon"
  }
 ],
 "mapName": "Topographic_Cache",
 "minScale": 0,
 "archivingInfo": {
  "supportsHistoricMoment": false
 },
 "spatialReference": {
  "falseM": -100000,
  "xyTolerance": 0.00051200017333030701,
  "mUnits": 10000,
  "zUnits": 1,
  "latestWkid": 102630,
  "zTolerance": 2,
  "wkid": 102630,
  "xyUnits": 137250468.636531115,
  "mTolerance": 2,
  "falseX": -16478800,
  "falseY": -43705000,
  "falseZ": 0
 },
 "tileImageInfo": {
  "bandCount": 1,
  "lercError": 0,
  "format": "PNG32",
  "compressionQuality": 0
 },
 "fullExtent": {
  "ymin": 45000,
  "xmin": 1668000,
  "ymax": 440000,
  "xmax": 1850000,
  "spatialReference": {
   "falseM": -100000,
   "xyTolerance": 0.00051200017333030701,
   "mUnits": 10000,
   "zUnits": 1,
   "latestWkid": 102630,
   "zTolerance": 2,
   "wkid": 102630,
   "xyUnits": 137250468.636531115,
   "mTolerance": 2,
   "falseX": -16478800,
   "falseY": -43705000,
   "falseZ": 0
  }
 },
 "supportedExtensions": "",
 "serviceItemId": "1e235142a4d14237b7b5c91129acfd85",
 "capabilities": "Map,Query,Data",
 "supportsDynamicLayers": true,
 "maxScale": 0,
 "singleFusedMapCache": true,
 "currentVersion": 12.1,
 "storageInfo": {
  "storageFormat": "esriMapCacheStorageModeCompactV2",
  "packetSize": 128
 },
 "resampling": false,
 "hasBranchVersionedData": false,
 "mapUnits": {
  "uwkid": 9003
 },
 "referenceScale": 0,
 "supportsSpatialFilter": true,
 "supportedQueryFormats": "JSON, geoJSON, PBF",
 "datumTransformations": [
  {
   "geoTransforms": [
    {
     "latestWkid": 1241,
     "transformForward": true,
     "wkid": 108001,
     "name": "NAD_1927_To_NAD_1983_NADCON"
    }
   ]
  },
  {
   "geoTransforms": [
    {
     "latestWkid": 1241,
     "transformForward": false,
     "wkid": 108001,
     "name": "NAD_1927_To_NAD_1983_NADCON"
    }
   ]
  }
 ],
 "initialExtent": {
  "ymin": 271740.53369129327,
  "xmin": 1771665.4982242896,
  "ymax": 273332.20035796106,
  "xmax": 1774858.3767850115,
  "spatialReference": {
   "falseM": -100000,
   "xyTolerance": 0.00051200017333030701,
   "mUnits": 10000,
   "zUnits": 1,
   "latestWkid": 102630,
   "zTolerance": 2,
   "wkid": 102630,
   "xyUnits": 137250468.636531115,
   "mTolerance": 2,
   "falseX": -16478800,
   "falseY": -43705000,
   "falseZ": 0
  }
 },
 "serviceDescription": "Topographic_Cache",
 "copyrightText": "City of Mobile GIS Department",
 "supportsTimeRelation": true
}
