{
 "currentVersion": 11.5,
 "cimVersion": "3.5.0",
 "serviceDescription": "FloodMap_Cache",
 "mapName": "FloodMap_Cache",
 "description": "FloodMap_Cache",
 "copyrightText": "",
 "supportsDynamicLayers": false,
 "layers": [
  {
   "id": 0,
   "name": "DFIRM Map Panel",
   "parentLayerId": -1,
   "defaultVisibility": true,
   "subLayerIds": null,
   "minScale": 12000,
   "maxScale": 0,
   "type": "Feature Layer",
   "geometryType": "esriGeometryPolygon",
   "supportsDynamicLegends": true
  }
 ],
 "tables": [],
 "spatialReference": {
  "wkid": 102630,
  "latestWkid": 102630,
  "xyTolerance": 0.003280833333333333,
  "zTolerance": 2,
  "mTolerance": 2,
  "falseX": -16478800,
  "falseY": -43705000,
  "xyUnits": 1.372504686365311E8,
  "falseZ": 0,
  "zUnits": 1,
  "falseM": -100000,
  "mUnits": 10000
 },
 "singleFusedMapCache": true,
 "tileInfo": {
  "rows": 256,
  "cols": 256,
  "dpi": 96,
  "format": "PNG32",
  "compressionQuality": 0,
  "origin": {
   "x": -16478800,
   "y": 21921000
  },
  "spatialReference": {
   "wkid": 102630,
   "latestWkid": 102630,
   "xyTolerance": 0.02,
   "zTolerance": 2,
   "mTolerance": 2,
   "falseX": -16478800,
   "falseY": -43705000,
   "xyUnits": 1.372504686365311E8,
   "falseZ": 0,
   "zUnits": 1,
   "falseM": -100000,
   "mUnits": 10000
  },
  "lods": [
   {
    "level": 0,
    "resolution": 501.5407986111111,
    "scale": 577775
   },
   {
    "level": 1,
    "resolution": 250.78645833333331,
    "scale": 288906
   },
   {
    "level": 2,
    "resolution": 125.39322916666666,
    "scale": 144453
   },
   {
    "level": 3,
    "resolution": 62.69618055555555,
    "scale": 72226
   },
   {
    "level": 4,
    "resolution": 31.33159722222222,
    "scale": 36094
   },
   {
    "level": 5,
    "resolution": 15.682291666666666,
    "scale": 18066
   },
   {
    "level": 6,
    "resolution": 7.841145833333333,
    "scale": 9033
   },
   {
    "level": 7,
    "resolution": 3.903645833333333,
    "scale": 4497
   },
   {
    "level": 8,
    "resolution": 1.9678819444444444,
    "scale": 2267
   },
   {
    "level": 9,
    "resolution": 0.9835069444444444,
    "scale": 1133
   },
   {
    "level": 10,
    "resolution": 0.4913194444444444,
    "scale": 566
   }
  ]
 },
 "storageInfo": {
  "storageFormat": "esriMapCacheStorageModeCompactV2",
  "packetSize": 128
 },
 "initialExtent": {
  "xmin": 1772942.097338091,
  "ymin": 258466.20862661424,
  "xmax": 1783656.1569749392,
  "ymax": 264285.6530710586,
  "spatialReference": {
   "wkid": 102630,
   "latestWkid": 102630,
   "xyTolerance": 0.003280833333333333,
   "zTolerance": 2,
   "mTolerance": 2,
   "falseX": -16478800,
   "falseY": -43705000,
   "xyUnits": 1.372504686365311E8,
   "falseZ": 0,
   "zUnits": 1,
   "falseM": -100000,
   "mUnits": 10000
  }
 },
 "fullExtent": {
  "xmin": 1668000,
  "ymin": 45000,
  "xmax": 1850000,
  "ymax": 440000,
  "spatialReference": {
   "wkid": 102630,
   "latestWkid": 102630,
   "xyTolerance": 0.003280833333333333,
   "zTolerance": 2,
   "mTolerance": 2,
   "falseX": -16478800,
   "falseY": -43705000,
   "xyUnits": 1.372504686365311E8,
   "falseZ": 0,
   "zUnits": 1,
   "falseM": -100000,
   "mUnits": 10000
  }
 },
 "datesInUnknownTimezone": false,
 "minScale": 577775,
 "maxScale": 566,
 "units": "esriFeet",
 "supportedImageFormatTypes": "PNG32,PNG24,PNG,JPG,DIB,TIFF,EMF,PS,PDF,GIF,SVG,SVGZ,BMP",
 "documentInfo": {
  "Title": "D:\\migration\\com-database-migration\\com-database-migration.aprx",
  "Author": "",
  "Comments": "",
  "Subject": "",
  "Category": "",
  "Version": "3.3.0",
  "AntialiasingMode": "Fast",
  "TextAntialiasingMode": "Force",
  "Keywords": "FloodMap_Cache,MapServer"
 },
 "supportsQueryDomains": true,
 "capabilities": "Map,Query,Data",
 "supportedQueryFormats": "JSON, geoJSON, PBF",
 "exportTilesAllowed": false,
 "referenceScale": 0.0,
 "datumTransformations": [
  {
   "geoTransforms": [
    {
     "wkid": 108001,
     "latestWkid": 1241,
     "transformForward": true,
     "name": "NAD_1927_To_NAD_1983_NADCON"
    }
   ]
  },
  {
   "geoTransforms": [
    {
     "wkid": 108001,
     "latestWkid": 1241,
     "transformForward": false,
     "name": "NAD_1927_To_NAD_1983_NADCON"
    }
   ]
  }
 ],
 "supportsDatumTransformation": true,
 "floorAwareMapProperties": {
  "defaultFloorFilterSettings": {
   "isEnabled": false
  }
 },
 "archivingInfo": {
  "supportsHistoricMoment": false
 },
 "supportsClipping": true,
 "supportsSpatialFilter": true,
 "supportsTimeRelation": true,
 "supportsQueryDataElements": true,
 "mapUnits": {
  "uwkid": 9003
 },
 "maxSelectionCount": 2000,
 "maxRecordCount": 2000,
 "maxImageHeight": 4096,
 "maxImageWidth": 4096,
 "supportedExtensions": "",
 "resampling": false,
 "serviceItemId": "86cb676e9c7e4b8c8845f1369d3ed73b"
}
